BEGIN:VCALENDAR
VERSION:2.0
PRODID:-//Sweet Occasions &amp; Decor Designs - ECPv5.2.0//NONSGML v1.0//EN
CALSCALE:GREGORIAN
METHOD:PUBLISH
X-WR-CALNAME:Sweet Occasions &amp; Decor Designs
X-ORIGINAL-URL:https://sweetoccasions.co.za
X-WR-CALDESC:Events for Sweet Occasions &amp; Decor Designs
BEGIN:VTIMEZONE
TZID:UTC
BEGIN:STANDARD
TZOFFSETFROM:+0000
TZOFFSETTO:+0000
TZNAME:UTC
DTSTART:20190101T000000
END:STANDARD
END:VTIMEZONE
BEGIN:VEVENT
DTSTART;TZID=UTC:20190824T100000
DTEND;TZID=UTC:20190824T173000
DTSTAMP:20260421T133133
CREATED:20200508T145739Z
LAST-MODIFIED:20200508T145739Z
UID:13725-1566640800-1566667800@sweetoccasions.co.za
SUMMARY:Women with purpose seminar
DESCRIPTION:
URL:https://sweetoccasions.co.za/event/women-with-purpose-seminar/
LOCATION:Sheldon lodge\, KwaMhlanga\, KwaMhlanga\, KwaMhlanga\, South Africa
CATEGORIES:Past Events
ATTACH;FMTTYPE=image/jpeg:https://sweetoccasions.co.za/wp-content/uploads/2020/05/3.jpg
END:VEVENT
END:VCALENDAR