BEGIN:VCALENDAR
VERSION:2.0
PRODID:-//Sweet Occasions &amp; Decor Designs - ECPv5.2.0//NONSGML v1.0//EN
CALSCALE:GREGORIAN
METHOD:PUBLISH
X-WR-CALNAME:Sweet Occasions &amp; Decor Designs
X-ORIGINAL-URL:https://sweetoccasions.co.za
X-WR-CALDESC:Events for Sweet Occasions &amp; Decor Designs
BEGIN:VTIMEZONE
TZID:UTC
BEGIN:STANDARD
TZOFFSETFROM:+0000
TZOFFSETTO:+0000
TZNAME:UTC
DTSTART:20180101T000000
END:STANDARD
END:VTIMEZONE
BEGIN:VEVENT
DTSTART;TZID=UTC:20181118T130000
DTEND;TZID=UTC:20181118T170000
DTSTAMP:20260421T134859
CREATED:20190212T075415Z
LAST-MODIFIED:20200509T151931Z
UID:13159-1542546000-1542560400@sweetoccasions.co.za
SUMMARY:She Believed She Could
DESCRIPTION:
URL:https://sweetoccasions.co.za/event/she-believed-she-could/
LOCATION:Skin Renewal\, Brooklyn Pretoria\, Skin Renewal\, Brooklyn\, Pretoria\, Gauteng\, 0001\, South Africa
CATEGORIES:Past Events
ATTACH;FMTTYPE=image/jpeg:https://sweetoccasions.co.za/wp-content/uploads/2019/02/Photo-13.jpg
ORGANIZER;CN="The%20Tea%20Room":MAILTO:info@sweetoccasions.co.za
END:VEVENT
END:VCALENDAR