BEGIN:VCALENDAR
VERSION:2.0
PRODID:-//Sweet Occasions &amp; Decor Designs - ECPv5.2.0//NONSGML v1.0//EN
CALSCALE:GREGORIAN
METHOD:PUBLISH
X-WR-CALNAME:Sweet Occasions &amp; Decor Designs
X-ORIGINAL-URL:https://sweetoccasions.co.za
X-WR-CALDESC:Events for Sweet Occasions &amp; Decor Designs
BEGIN:VTIMEZONE
TZID:UTC
BEGIN:STANDARD
TZOFFSETFROM:+0000
TZOFFSETTO:+0000
TZNAME:UTC
DTSTART:20190101T000000
END:STANDARD
END:VTIMEZONE
BEGIN:VEVENT
DTSTART;TZID=UTC:20190420T120000
DTEND;TZID=UTC:20190420T160000
DTSTAMP:20260421T132715
CREATED:20180313T061858Z
LAST-MODIFIED:20200510T141055Z
UID:13165-1555761600-1555776000@sweetoccasions.co.za
SUMMARY:High Tea
DESCRIPTION:
URL:https://sweetoccasions.co.za/event/high-tea-21-april/
LOCATION:Sweet Occasions\, 194 Lois Avenue\, Newlands\, Pretoria\, Pretoria\, Gauteng\, 0001\, South Africa
CATEGORIES:Past Events
ATTACH;FMTTYPE=image/jpeg:https://sweetoccasions.co.za/wp-content/uploads/2018/03/IMG_6968-scaled.jpg
ORGANIZER;CN="The%20Tea%20Room":MAILTO:info@sweetoccasions.co.za
END:VEVENT
END:VCALENDAR