BEGIN:VCALENDAR
VERSION:2.0
PRODID:-//Sweet Occasions &amp; Decor Designs - ECPv5.2.0//NONSGML v1.0//EN
CALSCALE:GREGORIAN
METHOD:PUBLISH
X-WR-CALNAME:Sweet Occasions &amp; Decor Designs
X-ORIGINAL-URL:https://sweetoccasions.co.za
X-WR-CALDESC:Events for Sweet Occasions &amp; Decor Designs
BEGIN:VTIMEZONE
TZID:UTC
BEGIN:STANDARD
TZOFFSETFROM:+0000
TZOFFSETTO:+0000
TZNAME:UTC
DTSTART:20170101T000000
END:STANDARD
END:VTIMEZONE
BEGIN:VEVENT
DTSTART;TZID=UTC:20171203T140000
DTEND;TZID=UTC:20171203T180000
DTSTAMP:20260421T133056
CREATED:20190212T095836Z
LAST-MODIFIED:20190411T092046Z
UID:13163-1512309600-1512324000@sweetoccasions.co.za
SUMMARY:Champagne on the Lawn
DESCRIPTION:
URL:https://sweetoccasions.co.za/event/champagne-on-the-lawn/
LOCATION:Camdeboo\, Nellmapius Dr\, Irene\, Pretoria\, Gauteng\, 0001\, South Africa
CATEGORIES:Past Events
ATTACH;FMTTYPE=image/jpeg:https://sweetoccasions.co.za/wp-content/uploads/2019/03/Photo-11.jpg
ORGANIZER;CN="The%20Tea%20Room":MAILTO:info@sweetoccasions.co.za
END:VEVENT
END:VCALENDAR